{
 "currentVersion": 10.9,
 "serviceDescription": "Hydrogeologická mapa SR M 1:200 000 a vybrané regióny základných hydrogeologických máp M 1:50 000 (vrchný, spodný kolektor a HG objekty).",
 "mapName": "HYDROGEOLOGICKÉ MAPY",
 "description": "",
 "copyrightText": "Služba je verejnosti prístupná bezplatne. Využitie údajov sprístupnených službou predpokladá začlenenie ochranných znakov (copyright ŠGÚDŠ).",
 "supportsDynamicLayers": true,
 "layers": [
  {
   "id": 0,
   "name": "HG objekty, vrty, pramene, krasové javy",
   "parentLayerId": -1,
   "defaultVisibility": true,
   "subLayerIds": null,
   "minScale": 100000,
   "maxScale": 0,
   "type": "Feature Layer",
   "geometryType": "esriGeometryPoint"
  },
  {
   "id": 1,
   "name": "Regióny HG máp M 1 : 50 000",
   "parentLayerId": -1,
   "defaultVisibility": true,
   "subLayerIds": [
    2,
    3
   ],
   "minScale": 0,
   "maxScale": 0,
   "type": "Group Layer"
  },
  {
   "id": 2,
   "name": "Regióny HG máp M 1 : 50 000",
   "parentLayerId": 1,
   "defaultVisibility": true,
   "subLayerIds": null,
   "minScale": 0,
   "maxScale": 500001,
   "type": "Feature Layer",
   "geometryType": "esriGeometryPolygon"
  },
  {
   "id": 3,
   "name": "Regióny HG máp M 1 : 50 000 - hranice",
   "parentLayerId": 1,
   "defaultVisibility": true,
   "subLayerIds": null,
   "minScale": 500000,
   "maxScale": 0,
   "type": "Feature Layer",
   "geometryType": "esriGeometryPolygon"
  },
  {
   "id": 4,
   "name": "HG mapa M 1:200 000",
   "parentLayerId": -1,
   "defaultVisibility": true,
   "subLayerIds": [
    5
   ],
   "minScale": 500000,
   "maxScale": 100001,
   "type": "Group Layer"
  },
  {
   "id": 5,
   "name": "Plochy",
   "parentLayerId": 4,
   "defaultVisibility": true,
   "subLayerIds": null,
   "minScale": 0,
   "maxScale": 0,
   "type": "Feature Layer",
   "geometryType": "esriGeometryPolygon"
  },
  {
   "id": 6,
   "name": "Základná HG mapa M 1:50 000",
   "parentLayerId": -1,
   "defaultVisibility": true,
   "subLayerIds": [
    7,
    8,
    9
   ],
   "minScale": 100000,
   "maxScale": 0,
   "type": "Group Layer"
  },
  {
   "id": 7,
   "name": "Tektonika",
   "parentLayerId": 6,
   "defaultVisibility": true,
   "subLayerIds": null,
   "minScale": 100000,
   "maxScale": 0,
   "type": "Feature Layer",
   "geometryType": "esriGeometryPolyline"
  },
  {
   "id": 8,
   "name": "Vrchný kolektor",
   "parentLayerId": 6,
   "defaultVisibility": true,
   "subLayerIds": null,
   "minScale": 100000,
   "maxScale": 0,
   "type": "Feature Layer",
   "geometryType": "esriGeometryPolygon"
  },
  {
   "id": 9,
   "name": "Spodný kolektor",
   "parentLayerId": 6,
   "defaultVisibility": true,
   "subLayerIds": null,
   "minScale": 100000,
   "maxScale": 0,
   "type": "Feature Layer",
   "geometryType": "esriGeometryPolygon"
  }
 ],
 "tables": [],
 "spatialReference": {
  "wkid": 102067,
  "latestWkid": 5514
 },
 "singleFusedMapCache": true,
 "tileInfo": {
  "rows": 256,
  "cols": 256,
  "dpi": 96,
  "format": "PNG",
  "compressionQuality": 75,
  "origin": {
   "x": -33699800,
   "y": 33699800
  },
  "spatialReference": {
   "wkid": 102067,
   "latestWkid": 5514
  },
  "lods": [
   {
    "level": 0,
    "resolution": 1058.3354500042335,
    "scale": 4000000
   },
   {
    "level": 1,
    "resolution": 529.1677250021168,
    "scale": 2000000
   },
   {
    "level": 2,
    "resolution": 396.87579375158754,
    "scale": 1500000
   },
   {
    "level": 3,
    "resolution": 264.5838625010584,
    "scale": 1000000
   },
   {
    "level": 4,
    "resolution": 132.2919312505292,
    "scale": 500000
   },
   {
    "level": 5,
    "resolution": 52.91677250021167,
    "scale": 200000
   },
   {
    "level": 6,
    "resolution": 26.458386250105836,
    "scale": 100000
   },
   {
    "level": 7,
    "resolution": 19.843789687579378,
    "scale": 75000
   },
   {
    "level": 8,
    "resolution": 13.229193125052918,
    "scale": 50000
   },
   {
    "level": 9,
    "resolution": 6.614596562526459,
    "scale": 25000
   }
  ]
 },
 "initialExtent": {
  "xmin": -612746.587760471,
  "ymin": -1299913.6311095248,
  "xmax": -144038.45813355196,
  "ymax": -1104978.8051294226,
  "spatialReference": {
   "wkid": 102067,
   "latestWkid": 5514
  }
 },
 "fullExtent": {
  "xmin": -591441.6727774292,
  "ymin": -1334790.1550692245,
  "xmax": -165343.3731165938,
  "ymax": -1132679.0362889953,
  "spatialReference": {
   "wkid": 102067,
   "latestWkid": 5514
  }
 },
 "minScale": 2311162.217155,
 "maxScale": 4513.988705,
 "minLOD": 1,
 "maxLOD": 4,
 "units": "esriMeters",
 "supportedImageFormatTypes": "PNG32,PNG24,PNG,JPG,DIB,TIFF,EMF,PS,PDF,GIF,SVG,SVGZ,BMP",
 "documentInfo": {
  "Title": "Hydrogeologické mapy",
  "Author": "Miroslav Antalík",
  "Comments": "Hydrogeologická mapa SR M 1:200 000 a vybrané regióny základných hydrogeologických máp M 1:50 000 (vrchný, spodný kolektor a HG objekty).",
  "Subject": "Sieťové služby podľa zákon č. 3/2009 Z.z. o národnej infraštruktúre pre priestorové informácie.",
  "Category": "",
  "AntialiasingMode": "None",
  "TextAntialiasingMode": "Force",
  "Keywords": "geology,geológia"
 },
 "capabilities": "Map,Query,Data",
 "supportedQueryFormats": "JSON, geoJSON",
 "exportTilesAllowed": false,
 "referenceScale": 0,
 "datumTransformations": [
  {
   "geoTransforms": [
    {
     "wkid": 108001,
     "latestWkid": 1241,
     "transformForward": true,
     "name": "NAD_1927_To_NAD_1983_NADCON"
    }
   ]
  },
  {
   "geoTransforms": [
    {
     "wkid": 108001,
     "latestWkid": 1241,
     "transformForward": false,
     "name": "NAD_1927_To_NAD_1983_NADCON"
    }
   ]
  }
 ],
 "supportsDatumTransformation": true,
 "maxRecordCount": 1000,
 "maxImageHeight": 4096,
 "maxImageWidth": 4096,
 "supportedExtensions": "",
 "resampling": false,
 "serviceItemId": "e811cacd78d54ba4b44e79a86666794b"
}
